BEGIN:VCALENDAR
VERSION:2.0
PRODID:-//Double Action Indoor Shooting Center &amp; Gun Shop - ECPv6.15.20//NONSGML v1.0//EN
CALSCALE:GREGORIAN
METHOD:PUBLISH
X-WR-CALNAME:Double Action Indoor Shooting Center &amp; Gun Shop
X-ORIGINAL-URL:https://doubleaction.com
X-WR-CALDESC:Events for Double Action Indoor Shooting Center &amp; Gun Shop
REFRESH-INTERVAL;VALUE=DURATION:PT1H
X-Robots-Tag:noindex
X-PUBLISHED-TTL:PT1H
BEGIN:VTIMEZONE
TZID:America/Detroit
BEGIN:DAYLIGHT
TZOFFSETFROM:-0500
TZOFFSETTO:-0400
TZNAME:EDT
DTSTART:20210314T070000
END:DAYLIGHT
BEGIN:STANDARD
TZOFFSETFROM:-0400
TZOFFSETTO:-0500
TZNAME:EST
DTSTART:20211107T060000
END:STANDARD
BEGIN:DAYLIGHT
TZOFFSETFROM:-0500
TZOFFSETTO:-0400
TZNAME:EDT
DTSTART:20220313T070000
END:DAYLIGHT
BEGIN:STANDARD
TZOFFSETFROM:-0400
TZOFFSETTO:-0500
TZNAME:EST
DTSTART:20221106T060000
END:STANDARD
BEGIN:DAYLIGHT
TZOFFSETFROM:-0500
TZOFFSETTO:-0400
TZNAME:EDT
DTSTART:20230312T070000
END:DAYLIGHT
BEGIN:STANDARD
TZOFFSETFROM:-0400
TZOFFSETTO:-0500
TZNAME:EST
DTSTART:20231105T060000
END:STANDARD
END:VTIMEZONE
BEGIN:VEVENT
DTSTART;TZID=America/Detroit:20220306T130000
DTEND;TZID=America/Detroit:20220306T130000
DTSTAMP:20260423T111811
CREATED:20220212T192342Z
LAST-MODIFIED:20220212T194439Z
UID:28894-1646571600-1646571600@doubleaction.com
SUMMARY:BASIC FIREARM SAFETY CLASS (FREE)
DESCRIPTION:In This Class You’ll Learn:\n\nProper Gun Handling\nHome Safety\nSafe Firearm Storage\nGun Store Etiquette & Safe Handling in Store\nProper Gun Range Etiquette & Safe Handling on Range\n\nSponsored by Double Action & Instructed by Tatti Training Services and Prapas Training Services
URL:https://doubleaction.com/event/basic-firearm-safety-class-free/
LOCATION:Basic Firearm Safety Class\, 32411 Dequindre Rd.\, Madison Heights\, MI\, 48072
CATEGORIES:Basic Firearm Safety Class
ORGANIZER;CN="Brian Tatti":MAILTO:tattitrainingservices@gmail.com
END:VEVENT
END:VCALENDAR