BEGIN:VCALENDAR
VERSION:2.0
PRODID:-//Double Action Indoor Shooting Center &amp; Gun Shop - ECPv6.15.20//NONSGML v1.0//EN
CALSCALE:GREGORIAN
METHOD:PUBLISH
X-WR-CALNAME:Double Action Indoor Shooting Center &amp; Gun Shop
X-ORIGINAL-URL:https://doubleaction.com
X-WR-CALDESC:Events for Double Action Indoor Shooting Center &amp; Gun Shop
REFRESH-INTERVAL;VALUE=DURATION:PT1H
X-Robots-Tag:noindex
X-PUBLISHED-TTL:PT1H
BEGIN:VTIMEZONE
TZID:America/Detroit
BEGIN:DAYLIGHT
TZOFFSETFROM:-0500
TZOFFSETTO:-0400
TZNAME:EDT
DTSTART:20210314T070000
END:DAYLIGHT
BEGIN:STANDARD
TZOFFSETFROM:-0400
TZOFFSETTO:-0500
TZNAME:EST
DTSTART:20211107T060000
END:STANDARD
BEGIN:DAYLIGHT
TZOFFSETFROM:-0500
TZOFFSETTO:-0400
TZNAME:EDT
DTSTART:20220313T070000
END:DAYLIGHT
BEGIN:STANDARD
TZOFFSETFROM:-0400
TZOFFSETTO:-0500
TZNAME:EST
DTSTART:20221106T060000
END:STANDARD
BEGIN:DAYLIGHT
TZOFFSETFROM:-0500
TZOFFSETTO:-0400
TZNAME:EDT
DTSTART:20230312T070000
END:DAYLIGHT
BEGIN:STANDARD
TZOFFSETFROM:-0400
TZOFFSETTO:-0500
TZNAME:EST
DTSTART:20231105T060000
END:STANDARD
END:VTIMEZONE
BEGIN:VEVENT
DTSTART;TZID=America/Detroit:20221025T180000
DTEND;TZID=America/Detroit:20221025T200000
DTSTAMP:20260423T124735
CREATED:20221009T030357Z
LAST-MODIFIED:20221009T030444Z
UID:30026-1666720800-1666728000@doubleaction.com
SUMMARY:Home Protection Plan Class (Dino Prapas)
DESCRIPTION:
URL:https://doubleaction.com/event/home-protection-plan-class-dino-prapas/
LOCATION:Home Protection Plan – DA\, 32411 Dequindre Rd.\, Madison Heights\, Michigan\, 48071
CATEGORIES:Home Protection Plan
END:VEVENT
END:VCALENDAR