BEGIN:VCALENDAR
VERSION:2.0
PRODID:-//Double Action Indoor Shooting Center &amp; Gun Shop - ECPv6.15.20//NONSGML v1.0//EN
CALSCALE:GREGORIAN
METHOD:PUBLISH
X-WR-CALNAME:Double Action Indoor Shooting Center &amp; Gun Shop
X-ORIGINAL-URL:https://doubleaction.com
X-WR-CALDESC:Events for Double Action Indoor Shooting Center &amp; Gun Shop
REFRESH-INTERVAL;VALUE=DURATION:PT1H
X-Robots-Tag:noindex
X-PUBLISHED-TTL:PT1H
BEGIN:VTIMEZONE
TZID:America/Detroit
BEGIN:DAYLIGHT
TZOFFSETFROM:-0500
TZOFFSETTO:-0400
TZNAME:EDT
DTSTART:20180311T070000
END:DAYLIGHT
BEGIN:STANDARD
TZOFFSETFROM:-0400
TZOFFSETTO:-0500
TZNAME:EST
DTSTART:20181104T060000
END:STANDARD
BEGIN:DAYLIGHT
TZOFFSETFROM:-0500
TZOFFSETTO:-0400
TZNAME:EDT
DTSTART:20190310T070000
END:DAYLIGHT
BEGIN:STANDARD
TZOFFSETFROM:-0400
TZOFFSETTO:-0500
TZNAME:EST
DTSTART:20191103T060000
END:STANDARD
BEGIN:DAYLIGHT
TZOFFSETFROM:-0500
TZOFFSETTO:-0400
TZNAME:EDT
DTSTART:20200308T070000
END:DAYLIGHT
BEGIN:STANDARD
TZOFFSETFROM:-0400
TZOFFSETTO:-0500
TZNAME:EST
DTSTART:20201101T060000
END:STANDARD
END:VTIMEZONE
BEGIN:VEVENT
DTSTART;TZID=America/Detroit:20190605T180000
DTEND;TZID=America/Detroit:20190605T200000
DTSTAMP:20260423T130418
CREATED:20160419T213129Z
LAST-MODIFIED:20190424T005927Z
UID:15336-1559757600-1559764800@doubleaction.com
SUMMARY:Spring Pistol League
DESCRIPTION:
URL:https://doubleaction.com/event/spring-pistol-league-6/
LOCATION:Pistol League\, 32411 Dequindre Rd.\, Madison Heights\, MI\, 48071\, United States
CATEGORIES:Spring Pistol League
END:VEVENT
BEGIN:VEVENT
DTSTART;TZID=America/Detroit:20190529T180000
DTEND;TZID=America/Detroit:20190529T200000
DTSTAMP:20260423T130418
CREATED:20160419T212937Z
LAST-MODIFIED:20190424T005917Z
UID:15335-1559152800-1559160000@doubleaction.com
SUMMARY:Spring Pistol League
DESCRIPTION:
URL:https://doubleaction.com/event/spring-pistol-league-5/
LOCATION:Pistol League\, 32411 Dequindre Rd.\, Madison Heights\, MI\, 48071\, United States
CATEGORIES:Spring Pistol League
END:VEVENT
BEGIN:VEVENT
DTSTART;TZID=America/Detroit:20190522T180000
DTEND;TZID=America/Detroit:20190522T200000
DTSTAMP:20260423T130418
CREATED:20160419T212844Z
LAST-MODIFIED:20190424T005906Z
UID:15334-1558548000-1558555200@doubleaction.com
SUMMARY:Spring Pistol League
DESCRIPTION:
URL:https://doubleaction.com/event/spring-pistol-league-4/
LOCATION:Pistol League\, 32411 Dequindre Rd.\, Madison Heights\, MI\, 48071\, United States
CATEGORIES:Spring Pistol League
END:VEVENT
BEGIN:VEVENT
DTSTART;TZID=America/Detroit:20190515T180000
DTEND;TZID=America/Detroit:20190515T200000
DTSTAMP:20260423T130418
CREATED:20160419T212723Z
LAST-MODIFIED:20190424T005853Z
UID:15333-1557943200-1557950400@doubleaction.com
SUMMARY:Spring Pistol League
DESCRIPTION:
URL:https://doubleaction.com/event/spring-pistol-league-3/
LOCATION:Pistol League\, 32411 Dequindre Rd.\, Madison Heights\, MI\, 48071\, United States
CATEGORIES:Spring Pistol League
END:VEVENT
BEGIN:VEVENT
DTSTART;TZID=America/Detroit:20190508T180000
DTEND;TZID=America/Detroit:20190508T200000
DTSTAMP:20260423T130418
CREATED:20160419T212623Z
LAST-MODIFIED:20190424T005842Z
UID:15332-1557338400-1557345600@doubleaction.com
SUMMARY:Spring Pistol League
DESCRIPTION:
URL:https://doubleaction.com/event/spring-pistol-league-2/
LOCATION:Pistol League\, 32411 Dequindre Rd.\, Madison Heights\, MI\, 48071\, United States
CATEGORIES:Spring Pistol League
END:VEVENT
BEGIN:VEVENT
DTSTART;TZID=America/Detroit:20190501T173000
DTEND;TZID=America/Detroit:20190501T200000
DTSTAMP:20260423T130418
CREATED:20160419T212133Z
LAST-MODIFIED:20190424T005805Z
UID:15329-1556731800-1556740800@doubleaction.com
SUMMARY:Spring Pistol League
DESCRIPTION:
URL:https://doubleaction.com/event/spring-pistol-league/
LOCATION:Pistol League\, 32411 Dequindre Rd.\, Madison Heights\, MI\, 48071\, United States
CATEGORIES:Spring Pistol League
END:VEVENT
END:VCALENDAR