BEGIN:VCALENDAR
VERSION:2.0
PRODID:-//Double Action Indoor Shooting Center &amp; Gun Shop - ECPv6.15.20//NONSGML v1.0//EN
CALSCALE:GREGORIAN
METHOD:PUBLISH
X-WR-CALNAME:Double Action Indoor Shooting Center &amp; Gun Shop
X-ORIGINAL-URL:https://doubleaction.com
X-WR-CALDESC:Events for Double Action Indoor Shooting Center &amp; Gun Shop
REFRESH-INTERVAL;VALUE=DURATION:PT1H
X-Robots-Tag:noindex
X-PUBLISHED-TTL:PT1H
BEGIN:VTIMEZONE
TZID:America/Detroit
BEGIN:DAYLIGHT
TZOFFSETFROM:-0500
TZOFFSETTO:-0400
TZNAME:EDT
DTSTART:20150308T070000
END:DAYLIGHT
BEGIN:STANDARD
TZOFFSETFROM:-0400
TZOFFSETTO:-0500
TZNAME:EST
DTSTART:20151101T060000
END:STANDARD
BEGIN:DAYLIGHT
TZOFFSETFROM:-0500
TZOFFSETTO:-0400
TZNAME:EDT
DTSTART:20160313T070000
END:DAYLIGHT
BEGIN:STANDARD
TZOFFSETFROM:-0400
TZOFFSETTO:-0500
TZNAME:EST
DTSTART:20161106T060000
END:STANDARD
BEGIN:DAYLIGHT
TZOFFSETFROM:-0500
TZOFFSETTO:-0400
TZNAME:EDT
DTSTART:20170312T070000
END:DAYLIGHT
BEGIN:STANDARD
TZOFFSETFROM:-0400
TZOFFSETTO:-0500
TZNAME:EST
DTSTART:20171105T060000
END:STANDARD
END:VTIMEZONE
BEGIN:VEVENT
DTSTART;VALUE=DATE:20160606
DTEND;VALUE=DATE:20160607
DTSTAMP:20260424T034249
CREATED:20160606T160348Z
LAST-MODIFIED:20160606T160348Z
UID:15465-1465171200-1465257599@doubleaction.com
SUMMARY:Closed Today Due To Power Outage
DESCRIPTION:
URL:https://doubleaction.com/event/closed-today-due-power-outage/
LOCATION:Closed\, MI
CATEGORIES:Closed
END:VEVENT
END:VCALENDAR