BEGIN:VCALENDAR
VERSION:2.0
PRODID:-//Double Action Indoor Shooting Center &amp; Gun Shop - ECPv6.15.20//NONSGML v1.0//EN
CALSCALE:GREGORIAN
METHOD:PUBLISH
X-WR-CALNAME:Double Action Indoor Shooting Center &amp; Gun Shop
X-ORIGINAL-URL:https://doubleaction.com
X-WR-CALDESC:Events for Double Action Indoor Shooting Center &amp; Gun Shop
REFRESH-INTERVAL;VALUE=DURATION:PT1H
X-Robots-Tag:noindex
X-PUBLISHED-TTL:PT1H
BEGIN:VTIMEZONE
TZID:America/Detroit
BEGIN:DAYLIGHT
TZOFFSETFROM:-0500
TZOFFSETTO:-0400
TZNAME:EDT
DTSTART:20180311T070000
END:DAYLIGHT
BEGIN:STANDARD
TZOFFSETFROM:-0400
TZOFFSETTO:-0500
TZNAME:EST
DTSTART:20181104T060000
END:STANDARD
BEGIN:DAYLIGHT
TZOFFSETFROM:-0500
TZOFFSETTO:-0400
TZNAME:EDT
DTSTART:20190310T070000
END:DAYLIGHT
BEGIN:STANDARD
TZOFFSETFROM:-0400
TZOFFSETTO:-0500
TZNAME:EST
DTSTART:20191103T060000
END:STANDARD
BEGIN:DAYLIGHT
TZOFFSETFROM:-0500
TZOFFSETTO:-0400
TZNAME:EDT
DTSTART:20200308T070000
END:DAYLIGHT
BEGIN:STANDARD
TZOFFSETFROM:-0400
TZOFFSETTO:-0500
TZNAME:EST
DTSTART:20201101T060000
END:STANDARD
BEGIN:DAYLIGHT
TZOFFSETFROM:-0500
TZOFFSETTO:-0400
TZNAME:EDT
DTSTART:20210314T070000
END:DAYLIGHT
BEGIN:STANDARD
TZOFFSETFROM:-0400
TZOFFSETTO:-0500
TZNAME:EST
DTSTART:20211107T060000
END:STANDARD
BEGIN:DAYLIGHT
TZOFFSETFROM:-0500
TZOFFSETTO:-0400
TZNAME:EDT
DTSTART:20220313T070000
END:DAYLIGHT
BEGIN:STANDARD
TZOFFSETFROM:-0400
TZOFFSETTO:-0500
TZNAME:EST
DTSTART:20221106T060000
END:STANDARD
BEGIN:DAYLIGHT
TZOFFSETFROM:-0500
TZOFFSETTO:-0400
TZNAME:EDT
DTSTART:20230312T070000
END:DAYLIGHT
BEGIN:STANDARD
TZOFFSETFROM:-0400
TZOFFSETTO:-0500
TZNAME:EST
DTSTART:20231105T060000
END:STANDARD
END:VTIMEZONE
BEGIN:VEVENT
DTSTART;TZID=America/Detroit:20220415T100000
DTEND;TZID=America/Detroit:20220415T170000
DTSTAMP:20260423T162455
CREATED:20160324T222502Z
LAST-MODIFIED:20220413T214303Z
UID:15167-1650016800-1650042000@doubleaction.com
SUMMARY:Closing at 5:00pm
DESCRIPTION:Closing Early for Good Friday
URL:https://doubleaction.com/event/closing-at-500pm/
LOCATION:Closing Early. Special Holiday Hours
CATEGORIES:Closing Early
END:VEVENT
BEGIN:VEVENT
DTSTART;TZID=America/Detroit:20220306T130000
DTEND;TZID=America/Detroit:20220306T130000
DTSTAMP:20260423T162455
CREATED:20220212T192342Z
LAST-MODIFIED:20220212T194439Z
UID:28894-1646571600-1646571600@doubleaction.com
SUMMARY:BASIC FIREARM SAFETY CLASS (FREE)
DESCRIPTION:In This Class You’ll Learn:\n\nProper Gun Handling\nHome Safety\nSafe Firearm Storage\nGun Store Etiquette & Safe Handling in Store\nProper Gun Range Etiquette & Safe Handling on Range\n\nSponsored by Double Action & Instructed by Tatti Training Services and Prapas Training Services
URL:https://doubleaction.com/event/basic-firearm-safety-class-free/
LOCATION:Basic Firearm Safety Class\, 32411 Dequindre Rd.\, Madison Heights\, MI\, 48072
CATEGORIES:Basic Firearm Safety Class
ORGANIZER;CN="Brian Tatti":MAILTO:tattitrainingservices@gmail.com
END:VEVENT
BEGIN:VEVENT
DTSTART;TZID=America/Detroit:20220219T150000
DTEND;TZID=America/Detroit:20220219T170000
DTSTAMP:20260423T162455
CREATED:20190403T233039Z
LAST-MODIFIED:20220208T215741Z
UID:20474-1645282800-1645290000@doubleaction.com
SUMMARY:CPL Renewal Class (T. J.)
DESCRIPTION:
URL:https://doubleaction.com/event/cpl-class-t-j/
LOCATION:CPL Class – TJ\, 32411 Dequindre\, Madison Heights\, Michigan\, 48071
CATEGORIES:CPL Renewal Class
END:VEVENT
BEGIN:VEVENT
DTSTART;TZID=America/Detroit:20210516T090000
DTEND;TZID=America/Detroit:20210516T170000
DTSTAMP:20260423T162455
CREATED:20170412T204617Z
LAST-MODIFIED:20210505T224053Z
UID:16331-1621155600-1621184400@doubleaction.com
SUMMARY:CPL Class (T.J.)
DESCRIPTION:
URL:https://doubleaction.com/event/basic-cpl-class-t-j/
LOCATION:CPL Class – TJ\, 32411 Dequindre\, Madison Heights\, Michigan\, 48071
CATEGORIES:CPL Class
END:VEVENT
BEGIN:VEVENT
DTSTART;TZID=America/Detroit:20210227T090000
DTEND;TZID=America/Detroit:20210227T170000
DTSTAMP:20260423T162455
CREATED:20170412T204752Z
LAST-MODIFIED:20210209T220732Z
UID:16333-1614416400-1614445200@doubleaction.com
SUMMARY:Basic CPL Class (Ben Jones)
DESCRIPTION:
URL:https://doubleaction.com/event/basic-cpl-class-ben-jones/
LOCATION:CPL Class – Ben Jones
CATEGORIES:CPL Class
END:VEVENT
BEGIN:VEVENT
DTSTART;TZID=America/Detroit:20210130T100000
DTEND;TZID=America/Detroit:20210130T170000
DTSTAMP:20260423T162455
CREATED:20201013T205934Z
LAST-MODIFIED:20201222T211028Z
UID:27657-1612000800-1612026000@doubleaction.com
SUMMARY:CPL Class (Ben Jones)
DESCRIPTION:
URL:https://doubleaction.com/event/cpl-class-ben-jones/
LOCATION:CPL Class – Ben Jones
CATEGORIES:CPL Class
END:VEVENT
BEGIN:VEVENT
DTSTART;TZID=America/Detroit:20210102T100000
DTEND;TZID=America/Detroit:20210102T170000
DTSTAMP:20260423T162455
CREATED:20201223T145128Z
LAST-MODIFIED:20201223T145128Z
UID:27854-1609581600-1609606800@doubleaction.com
SUMMARY:OPEN (10am - 5pm)
DESCRIPTION:
URL:https://doubleaction.com/event/open-10am-5pm/
LOCATION:MI
END:VEVENT
BEGIN:VEVENT
DTSTART;VALUE=DATE:20210101
DTEND;VALUE=DATE:20210102
DTSTAMP:20260423T162455
CREATED:20161231T215118Z
LAST-MODIFIED:20201222T211407Z
UID:16035-1609459200-1609545599@doubleaction.com
SUMMARY:CLOSED New Year's Day
DESCRIPTION:
URL:https://doubleaction.com/event/closed-new-years-day/
LOCATION:Closed\, MI
CATEGORIES:Closed
END:VEVENT
BEGIN:VEVENT
DTSTART;VALUE=DATE:20201226
DTEND;VALUE=DATE:20210102
DTSTAMP:20260423T162455
CREATED:20201223T144949Z
LAST-MODIFIED:20201223T144949Z
UID:27852-1608940800-1609545599@doubleaction.com
SUMMARY:CLOSED
DESCRIPTION:
URL:https://doubleaction.com/event/closed-2/
LOCATION:Closed\, MI
CATEGORIES:Closed
END:VEVENT
BEGIN:VEVENT
DTSTART;VALUE=DATE:20200324
DTEND;VALUE=DATE:20200415
DTSTAMP:20260423T162455
CREATED:20200324T152849Z
LAST-MODIFIED:20200324T153006Z
UID:27308-1585008000-1586908799@doubleaction.com
SUMMARY:All Classes Have Been Canceled Until Further Notice
DESCRIPTION:
URL:https://doubleaction.com/event/all-classes-have-been-canceled-until-further-notice/
LOCATION:MI
CATEGORIES:Closed
END:VEVENT
BEGIN:VEVENT
DTSTART;TZID=America/Detroit:20200318T180000
DTEND;TZID=America/Detroit:20200318T200000
DTSTAMP:20260423T162455
CREATED:20170116T233219Z
LAST-MODIFIED:20200114T221357Z
UID:16119-1584554400-1584561600@doubleaction.com
SUMMARY:Winter Pistol League
DESCRIPTION:
URL:https://doubleaction.com/event/winter-pistol-league-11/
LOCATION:Pistol League\, 32411 Dequindre Rd.\, Madison Heights\, MI\, 48071\, United States
CATEGORIES:Winter Pistol League
END:VEVENT
BEGIN:VEVENT
DTSTART;TZID=America/Detroit:20200311T180000
DTEND;TZID=America/Detroit:20200311T200000
DTSTAMP:20260423T162455
CREATED:20170116T232705Z
LAST-MODIFIED:20200114T221228Z
UID:16117-1583949600-1583956800@doubleaction.com
SUMMARY:Winter Pistol League
DESCRIPTION:
URL:https://doubleaction.com/event/winter-pistol-league-10/
LOCATION:Pistol League\, 32411 Dequindre Rd.\, Madison Heights\, MI\, 48071\, United States
CATEGORIES:Winter Pistol League
END:VEVENT
BEGIN:VEVENT
DTSTART;TZID=America/Detroit:20200304T180000
DTEND;TZID=America/Detroit:20200304T200000
DTSTAMP:20260423T162455
CREATED:20170116T232557Z
LAST-MODIFIED:20200114T221136Z
UID:16115-1583344800-1583352000@doubleaction.com
SUMMARY:Winter Pistol League
DESCRIPTION:
URL:https://doubleaction.com/event/winter-pistol-league-9/
LOCATION:Pistol League\, 32411 Dequindre Rd.\, Madison Heights\, MI\, 48071\, United States
CATEGORIES:Winter Pistol League
END:VEVENT
BEGIN:VEVENT
DTSTART;TZID=America/Detroit:20200226T180000
DTEND;TZID=America/Detroit:20200226T200000
DTSTAMP:20260423T162455
CREATED:20170116T232210Z
LAST-MODIFIED:20200114T221056Z
UID:16112-1582740000-1582747200@doubleaction.com
SUMMARY:Winter Pistol League
DESCRIPTION:
URL:https://doubleaction.com/event/winter-pistol-league-8/
LOCATION:Pistol League\, 32411 Dequindre Rd.\, Madison Heights\, MI\, 48071\, United States
CATEGORIES:Winter Pistol League
END:VEVENT
BEGIN:VEVENT
DTSTART;TZID=America/Detroit:20200219T180000
DTEND;TZID=America/Detroit:20200219T200000
DTSTAMP:20260423T162455
CREATED:20160224T002302Z
LAST-MODIFIED:20200114T220958Z
UID:14667-1582135200-1582142400@doubleaction.com
SUMMARY:Winter Pistol League
DESCRIPTION:
URL:https://doubleaction.com/event/winter-pistol-league-7/
LOCATION:Pistol League\, 32411 Dequindre Rd.\, Madison Heights\, MI\, 48071\, United States
CATEGORIES:Winter Pistol League
END:VEVENT
BEGIN:VEVENT
DTSTART;TZID=America/Detroit:20200212T180000
DTEND;TZID=America/Detroit:20200212T200000
DTSTAMP:20260423T162455
CREATED:20160224T002302Z
LAST-MODIFIED:20200114T220937Z
UID:14666-1581530400-1581537600@doubleaction.com
SUMMARY:Winter Pistol League
DESCRIPTION:
URL:https://doubleaction.com/event/winter-pistol-league-6/
LOCATION:Pistol League\, 32411 Dequindre Rd.\, Madison Heights\, MI\, 48071\, United States
CATEGORIES:Winter Pistol League
END:VEVENT
BEGIN:VEVENT
DTSTART;TZID=America/Detroit:20200205T180000
DTEND;TZID=America/Detroit:20200205T200000
DTSTAMP:20260423T162455
CREATED:20160224T002302Z
LAST-MODIFIED:20200114T220909Z
UID:14664-1580925600-1580932800@doubleaction.com
SUMMARY:Winter Pistol League
DESCRIPTION:
URL:https://doubleaction.com/event/winter-pistol-league-5/
LOCATION:Pistol League\, 32411 Dequindre Rd.\, Madison Heights\, MI\, 48071\, United States
CATEGORIES:Winter Pistol League
END:VEVENT
BEGIN:VEVENT
DTSTART;TZID=America/Detroit:20200129T180000
DTEND;TZID=America/Detroit:20200129T200000
DTSTAMP:20260423T162455
CREATED:20160224T002302Z
LAST-MODIFIED:20200114T220817Z
UID:14663-1580320800-1580328000@doubleaction.com
SUMMARY:Winter Pistol League
DESCRIPTION:
URL:https://doubleaction.com/event/winter-pistol-league-4/
LOCATION:Pistol League\, 32411 Dequindre Rd.\, Madison Heights\, MI\, 48071\, United States
CATEGORIES:Winter Pistol League
END:VEVENT
BEGIN:VEVENT
DTSTART;TZID=America/Detroit:20200125T090000
DTEND;TZID=America/Detroit:20200125T170000
DTSTAMP:20260423T162455
CREATED:20170531T235847Z
LAST-MODIFIED:20200114T235442Z
UID:17992-1579942800-1579971600@doubleaction.com
SUMMARY:CPL Class (Chris Bauer)
DESCRIPTION:
URL:https://doubleaction.com/event/cpl-class-chris-bauer-2/
LOCATION:CPL Class – CB\, 32411 Dequindre Rd.\, Madison Heights\, Michigan\, 48071
CATEGORIES:CPL Class
ORGANIZER;CN="Chris Bauer":MAILTO:chris@bauertraining.com
END:VEVENT
BEGIN:VEVENT
DTSTART;TZID=America/Detroit:20200122T180000
DTEND;TZID=America/Detroit:20200122T200000
DTSTAMP:20260423T162455
CREATED:20160224T002302Z
LAST-MODIFIED:20200114T220747Z
UID:14661-1579716000-1579723200@doubleaction.com
SUMMARY:Winter Pistol League
DESCRIPTION:
URL:https://doubleaction.com/event/winter-pistol-league-3/
LOCATION:Pistol League\, 32411 Dequindre Rd.\, Madison Heights\, MI\, 48071\, United States
CATEGORIES:Winter Pistol League
END:VEVENT
BEGIN:VEVENT
DTSTART;TZID=America/Detroit:20200115T180000
DTEND;TZID=America/Detroit:20200115T200000
DTSTAMP:20260423T162455
CREATED:20160224T002302Z
LAST-MODIFIED:20200114T220726Z
UID:14660-1579111200-1579118400@doubleaction.com
SUMMARY:Winter Pistol League
DESCRIPTION:
URL:https://doubleaction.com/event/winter-pistol-league-2/
LOCATION:Pistol League\, 32411 Dequindre Rd.\, Madison Heights\, MI\, 48071\, United States
CATEGORIES:Winter Pistol League
END:VEVENT
BEGIN:VEVENT
DTSTART;TZID=America/Detroit:20200108T170000
DTEND;TZID=America/Detroit:20200108T200000
DTSTAMP:20260423T162455
CREATED:20171230T165044Z
LAST-MODIFIED:20200114T220624Z
UID:18816-1578502800-1578513600@doubleaction.com
SUMMARY:Winter Pistol League
DESCRIPTION:
URL:https://doubleaction.com/event/winter-pistol-league/
LOCATION:Pistol League\, 32411 Dequindre Rd.\, Madison Heights\, MI\, 48071\, United States
CATEGORIES:Winter Pistol League
END:VEVENT
BEGIN:VEVENT
DTSTART;TZID=America/Detroit:20190915T090000
DTEND;TZID=America/Detroit:20190915T170000
DTSTAMP:20260423T162455
CREATED:20170809T040049Z
LAST-MODIFIED:20190806T220157Z
UID:15739-1568538000-1568566800@doubleaction.com
SUMMARY:Hunter Safety (2-Day Class)
DESCRIPTION:
URL:https://doubleaction.com/event/hunter-safety-2-day-class-2/
LOCATION:Hunter Safety Classes\, 32411 Dequindre Rd.\, Madison Heights\, MI\, 48071
CATEGORIES:Hunter Safety Class
END:VEVENT
BEGIN:VEVENT
DTSTART;TZID=America/Detroit:20190914T090000
DTEND;TZID=America/Detroit:20190914T170000
DTSTAMP:20260423T162455
CREATED:20160830T220146Z
LAST-MODIFIED:20190806T220209Z
UID:15737-1568451600-1568480400@doubleaction.com
SUMMARY:Hunter Safety (2-Day Class)
DESCRIPTION:
URL:https://doubleaction.com/event/hunter-safety-2-day-class/
LOCATION:Hunter Safety Classes\, 32411 Dequindre Rd.\, Madison Heights\, MI\, 48071
CATEGORIES:Hunter Safety Class
END:VEVENT
BEGIN:VEVENT
DTSTART;TZID=America/Detroit:20190706T100000
DTEND;TZID=America/Detroit:20190707T170000
DTSTAMP:20260423T162455
CREATED:20160830T215014Z
LAST-MODIFIED:20190702T225447Z
UID:15728-1562407200-1562518800@doubleaction.com
SUMMARY:Open July 6th & 7th (10am - 5pm)
DESCRIPTION:
URL:https://doubleaction.com/event/open-july-6th-7th-10am-5pm/
LOCATION:MI
CATEGORIES:Holiday Hours
END:VEVENT
BEGIN:VEVENT
DTSTART;TZID=America/Detroit:20190605T180000
DTEND;TZID=America/Detroit:20190605T200000
DTSTAMP:20260423T162455
CREATED:20160419T213129Z
LAST-MODIFIED:20190424T005927Z
UID:15336-1559757600-1559764800@doubleaction.com
SUMMARY:Spring Pistol League
DESCRIPTION:
URL:https://doubleaction.com/event/spring-pistol-league-6/
LOCATION:Pistol League\, 32411 Dequindre Rd.\, Madison Heights\, MI\, 48071\, United States
CATEGORIES:Spring Pistol League
END:VEVENT
BEGIN:VEVENT
DTSTART;TZID=America/Detroit:20190529T180000
DTEND;TZID=America/Detroit:20190529T200000
DTSTAMP:20260423T162455
CREATED:20160419T212937Z
LAST-MODIFIED:20190424T005917Z
UID:15335-1559152800-1559160000@doubleaction.com
SUMMARY:Spring Pistol League
DESCRIPTION:
URL:https://doubleaction.com/event/spring-pistol-league-5/
LOCATION:Pistol League\, 32411 Dequindre Rd.\, Madison Heights\, MI\, 48071\, United States
CATEGORIES:Spring Pistol League
END:VEVENT
BEGIN:VEVENT
DTSTART;TZID=America/Detroit:20190522T180000
DTEND;TZID=America/Detroit:20190522T200000
DTSTAMP:20260423T162455
CREATED:20160419T212844Z
LAST-MODIFIED:20190424T005906Z
UID:15334-1558548000-1558555200@doubleaction.com
SUMMARY:Spring Pistol League
DESCRIPTION:
URL:https://doubleaction.com/event/spring-pistol-league-4/
LOCATION:Pistol League\, 32411 Dequindre Rd.\, Madison Heights\, MI\, 48071\, United States
CATEGORIES:Spring Pistol League
END:VEVENT
BEGIN:VEVENT
DTSTART;TZID=America/Detroit:20190515T180000
DTEND;TZID=America/Detroit:20190515T200000
DTSTAMP:20260423T162455
CREATED:20160419T212723Z
LAST-MODIFIED:20190424T005853Z
UID:15333-1557943200-1557950400@doubleaction.com
SUMMARY:Spring Pistol League
DESCRIPTION:
URL:https://doubleaction.com/event/spring-pistol-league-3/
LOCATION:Pistol League\, 32411 Dequindre Rd.\, Madison Heights\, MI\, 48071\, United States
CATEGORIES:Spring Pistol League
END:VEVENT
BEGIN:VEVENT
DTSTART;TZID=America/Detroit:20190508T180000
DTEND;TZID=America/Detroit:20190508T200000
DTSTAMP:20260423T162455
CREATED:20160419T212623Z
LAST-MODIFIED:20190424T005842Z
UID:15332-1557338400-1557345600@doubleaction.com
SUMMARY:Spring Pistol League
DESCRIPTION:
URL:https://doubleaction.com/event/spring-pistol-league-2/
LOCATION:Pistol League\, 32411 Dequindre Rd.\, Madison Heights\, MI\, 48071\, United States
CATEGORIES:Spring Pistol League
END:VEVENT
END:VCALENDAR