BEGIN:VCALENDAR
VERSION:2.0
PRODID:-//Double Action Indoor Shooting Center &amp; Gun Shop - ECPv6.15.20//NONSGML v1.0//EN
CALSCALE:GREGORIAN
METHOD:PUBLISH
X-ORIGINAL-URL:https://doubleaction.com
X-WR-CALDESC:Events for Double Action Indoor Shooting Center &amp; Gun Shop
REFRESH-INTERVAL;VALUE=DURATION:PT1H
X-Robots-Tag:noindex
X-PUBLISHED-TTL:PT1H
BEGIN:VTIMEZONE
TZID:America/Detroit
BEGIN:DAYLIGHT
TZOFFSETFROM:-0500
TZOFFSETTO:-0400
TZNAME:EDT
DTSTART:20230312T070000
END:DAYLIGHT
BEGIN:STANDARD
TZOFFSETFROM:-0400
TZOFFSETTO:-0500
TZNAME:EST
DTSTART:20231105T060000
END:STANDARD
BEGIN:DAYLIGHT
TZOFFSETFROM:-0500
TZOFFSETTO:-0400
TZNAME:EDT
DTSTART:20240310T070000
END:DAYLIGHT
BEGIN:STANDARD
TZOFFSETFROM:-0400
TZOFFSETTO:-0500
TZNAME:EST
DTSTART:20241103T060000
END:STANDARD
BEGIN:DAYLIGHT
TZOFFSETFROM:-0500
TZOFFSETTO:-0400
TZNAME:EDT
DTSTART:20250309T070000
END:DAYLIGHT
BEGIN:STANDARD
TZOFFSETFROM:-0400
TZOFFSETTO:-0500
TZNAME:EST
DTSTART:20251102T060000
END:STANDARD
END:VTIMEZONE
BEGIN:VEVENT
DTSTART;TZID=America/Detroit:20240629T100000
DTEND;TZID=America/Detroit:20240629T140000
DTSTAMP:20260424T213114
CREATED:20221228T234217Z
LAST-MODIFIED:20240614T183945Z
UID:30531-1719655200-1719669600@doubleaction.com
SUMMARY:CPL Renewal Class (Dino Prapas)
DESCRIPTION:
URL:https://doubleaction.com/event/cpl-renewal-class-dino-prapas-5/
LOCATION:CPL Renewal Class – DA\, 32411 Dequindre Rd.\, Madison Heights\, Michigan\, 48071
CATEGORIES:CPL Renewal Class
END:VEVENT
BEGIN:VEVENT
DTSTART;TZID=America/Detroit:20240629T100000
DTEND;TZID=America/Detroit:20240629T170000
DTSTAMP:20260424T213114
CREATED:20221228T234339Z
LAST-MODIFIED:20240614T181848Z
UID:30532-1719655200-1719680400@doubleaction.com
SUMMARY:CPL Class (Dino Prapas)
DESCRIPTION:
URL:https://doubleaction.com/event/cpl-class-dino-prapas-6/
LOCATION:CPL Class – DA\, 32411 Dequindre Rd.\, Madison Heights\, MI\, 48071
CATEGORIES:CPL Class
END:VEVENT
END:VCALENDAR